Workbook
Name 技能講習名: #REF!
Name 許可業種: #REF!
Name 血液型: #REF!
Name 職種名: #REF!
Name 特殊健康診断名: #REF!
Name 特別教育名: #REF!
Name 免許資格名: #REF!

Sheet 作成準備
A1: 【 作 成 準 備 】
C3: 〇 | F3: のみ入力して下さい。
C4: 〇 | D4: この様式に入力すると、各様式に反映するようになっています。
C5: 〇 | D5: 日付欄は「2021/5/31」と入力すると「令和3年5月31日」と変換されます。（一部除く）
C6: 〇 | D6: 工事名は２行でもかまいません。
C7: ○ | D7: 様式13 ｢有機溶剤・特定化学物質等持込使用届｣の化学物質管理者欄増設
C8: ○ | D8: 印は不要になりました。（確認欄等では印でも可能です)
C10: 工事名
C11: 作業所長
B15: 一次 | D15: 下請負協力会社
C16: 住所
C17: 会社名
C18: 代表者名
C19: 現場代理人
C21: 自社に関する事項 | I21: （一次協力会社の方も入力が必要です）
D22: 下請負協力会社 | X22: 一次
C23: 会社名 | X23: 二次
C24: 現場代理人 | X24: 三次
X25: 四次

Sheet 表紙
T1: 改訂 ２０２５年４月
A4: 労務安全に関する提出書類
E9: 工 事 名
E11: =IF(作成準備!F10="","",作成準備!F10)
F23: 協力会社名
G25: =IF(作成準備!F23="","",作成準備!F23)

Sheet 取扱要領
A2: 取 扱 要 領
C6: （１） | D6: 当社発注の担当工事の施工にあたり、作業所長宛「提出書類一覧表」にもとづいて必要な書類を
D7: 工事着手７日前迄に一次下請会社から提出してください。
C9: （２） | D9: ファイルされている各用紙は一枚ずつですので、枚数不足のときはコピーしてください。
C11: （３） | D11: 記入については、ゴム印等使用出来る所は使用してください。
C13: （４） | D13: この「提出書類ファイル」は、会社幹部現場巡回時（自主パトロール含む）や災害防止協議会出席時
D14: （一次、二次を問わない）に内容を見直し、差し替えを行い、常に刷新された状態で保管してください。
D15: なお、作業所担当者は、下表により刷新状況を確認してください。
I19: 提出書類刷新状況確認表
S20: （該当欄にサインのこと）
B21: 活動内容 | H21: 月 | K21: 月 | N21: 月 | Q21: 月 | T21: 月 | W21: 月
F22: 協力 会社 | H22: 作業所 確 認 | I22: 協力 会社 | K22: 作業所 確 認 | L22: 協力 会社 | N22: 作業所 確 認 | O22: 協力 会社 | Q22: 作業所 確 認 | R22: 協力 会社 | T22: 作業所 確 認 | U22: 協力 会社 | W22: 作業所 確 認
B23: 会社幹部巡回時
B24: （自主ﾊﾟﾄﾛｰﾙ含む）
B25: 災害防止協議会時
B28: 活動内容 | H28: 月 | K28: 月 | N28: 月 | Q28: 月 | T28: 月 | W28: 月
F29: 協力 会社 | H29: 作業所 確 認 | I29: 協力 会社 | K29: 作業所 確 認 | L29: 協力 会社 | N29: 作業所 確 認 | O29: 協力 会社 | Q29: 作業所 確 認 | R29: 協力 会社 | T29: 作業所 確 認 | U29: 協力 会社 | W29: 作業所 確 認
B30: 会社幹部巡回時
B31: （自主ﾊﾟﾄﾛｰﾙ含む）
B32: 災害防止協議会時

Sheet 提出書類一覧表
A1: 提 出 書 類 一 覧 表
A4: 番号 | C4: 提 出 書 類 の 名 称 | E4: 様 式 | F4: 提 出 日 | G4: 元請確認（サイン） | H4: 提 出 時 期
A6: １ | C6: 誓約書 | E6: 様式１ | F6: 年 月 日
A8: ２ | C8: 施工体制届出書（変更届） | E8: 様式２ | F8: 年 月 日
A10: ３ | C10: 工事安全管理計画表 | E10: 様式３ | F10: 年 月 日 | H10: ・原則として担当 工事着手７日前 までに提出
A12: ４ | C12: 作業主任者・作業指揮者選任報告書 | E12: 様式４ | F12: 年 月 日
H13: ・工事中変更の 都度差し替え
A14: ５ | C14: 作業員名簿 | E14: 様式５ | F14: 年 月 日
A16: ６ | C16: 有資格者、免許、技能講習修了証の写 | E16: 様式６ | F16: 年 月 日 | H16: ・追加分について は遅滞なく
A18: ７ | C18: 年少者・女性就労報告書 | E18: 様式７ | F18: 年 月 日
A20: ８ | C20: 高令者就労報告書 | E20: 様式８ | F20: 年 月 日
A22: ９ | C22: 外国人建設就労者建設現場入場届出書 | E22: 様式９ | F22: 年 月 日
A24: １０ | C24: 持込機械使用届（電動工具等） | E24: 様式10 | F24: 年 月 日 | H24: 機械持込の都度
A26: １１ | C26: 持込機械使用届（車両系建設機械等） | E26: 様式11 | F26: 年 月 日 | H26: 機械持込の都度
A28: １２ | C28: 工事用車両届 | E28: 様式12 | F28: 年 月 日 | H28: 車両使用の場合
A30: １３ | C30: 有機溶剤・特定化学物質等持込使用届 | E30: 様式13 | F30: 年 月 日 | H30: 有機溶剤・特定化学物質等を持ち込む場合
A32: １４ | C32: 火気使用届 | E32: 様式14 | F32: 年 月 日 | H32: 火気使用の場合
A34: １５ | C34: 当作業所の安全施工サイクル | E34: 様式15 | F34: 書類提出時に 元請から受領 する。 | H34: 切り取り線より 切り離す

Sheet 様式1
A1: 様式１号
T2: 年 月 日
A3: 誓 約 書
A6: 株 式 会 社 石 井 組
E8: =IF(作成準備!F10="","",作成準備!F10)
A9: 作業所の名称
A10: 作 業 所 長 | G10: =IF(作成準備!F11="","",作成準備!F11) | L10: 殿
O12: 住所 | T12: =IF(作成準備!F16="","",作成準備!F16)
O13: 会社名 | T13: =IF(作成準備!F17="","",作成準備!F17)
O14: 代表者名 | T14: =IF(作成準備!F18="","",作成準備!F18)
O15: 現場代理人名 | V15: =IF(作成準備!F19="","",作成準備!F19)
A17: この度貴社より受注致しました当工事の施工にあたり、下記の事項を遵守することを誓約致します。
A19: 記
B21: １． | C21: 労働基準法、労働安全衛生法、その他労働関係法令、及び貴社で定める安全衛生基準に
C22: 則り、貴作業所における安全衛生管理に自主的、積極的に取り組み、別記事項を忠実に遵
C23: 守いたします。
B25: ２． | C25: 外国人の不法就労者を絶対に使用いたしません。（入管法）
C26: 合法的に就労できる外国人を入場させる場合には、事前に入場届出書を提出し貴社の許可
C27: をいただきます。
C28: 当社が請負った工事契約に係る関係請負人会社の外国人就労について、遵守すべき事項
C29: を確実に監督・指導し貴社に迷惑をおかけいたしません。
B31: ３． | C31: 暴力団関係者を絶対に使用いたしません。（暴力団対策法）
B33: ４． | C33: 道路交通法、道路運送車両法、貨物自動車運送事業法、ダンプ規制法等を遵守し、
C34: 車両 （過積載、白トラ等） は絶対に使用いたしません。
B36: ５． | C36: 建設業法、労働者派遣法、その他関係法令を遵守し、法違反は絶対にいたしません。
B38: ６． | C38: 当社の関係下請負人会社にも、全て同様の事項を徹底し、遵守させます。
B40: ７． | C40: 提出会社は、当社と直接契約を締結した会社（一次下請）とする。
B42: 尚、以下の提出書類についても、内容に相違ありません。

Sheet 様式2
A1: 様式２号
AU2: 年 月 日
U3: 下請負協力会社編成表（変更届）
F4: =IF(作成準備!F10="","",作成準備!F10)
B5: 作業所の名称
R6: （二次下請負協力会社） | AE6: （三次下請負協力会社） | AR6: （四次下請負協力会社）
S7: 会社名・事業者ID | AF7: 会社名・事業者ID | AS7: 会社名・事業者ID
C8: 元 請 会 社 名 | S8: 代表者名 | AF8: 代表者名 | AS8: 代表者名
C9: 株式会社 石 井 組 | S9: 許可番号 | AF9: 許可番号 | AS9: 許可番号
S10: 一般/特定 | X10: 一般 / 特定 | AF10: 一般/特定 | AK10: 一般 / 特定 | AS10: 一般/特定 | AX10: 一般 / 特定
S11: 安全衛生責任者 | AF11: 安全衛生責任者 | AS11: 安全衛生責任者
S12: 主任技術者 | AF12: 主任技術者 | AS12: 主任技術者
T13: 特定専門工事の該当 | X13: 有 ・ 無 | AG13: 特定専門工事の該当 | AK13: 有 ・ 無 | AT13: 特定専門工事の該当 | AX13: 有 ・ 無
R14: 工事 | S14: 専門技術者 | AE14: 工事 | AF14: 専門技術者 | AR14: 工事 | AS14: 専門技術者
T15: 担当工事内容 | AG15: 担当工事内容 | AT15: 担当工事内容
R16: 工期 | X16: ～ | AE16: 工期 | AK16: ～ | AR16: 工期 | AX16: ～
C18: （一次下請負協力会社 作成下請協力会社） | R18: （二次下請負協力会社） | AE18: （三次下請負協力会社） | AR18: （四次下請負協力会社）
E19: 会社名・事業者ID | S19: 会社名・事業者ID | AF19: 会社名・事業者ID | AS19: 会社名・事業者ID
E20: 代表者名 | S20: 代表者名 | AF20: 代表者名 | AS20: 代表者名
E21: 許可番号 | S21: 許可番号 | AF21: 許可番号 | AS21: 許可番号
E22: 一般/特定 | J22: 一般 / 特定 | S22: 一般/特定 | X22: 一般 / 特定 | AF22: 一般/特定 | AK22: 一般 / 特定 | AS22: 一般/特定 | AX22: 一般 / 特定
E23: 安全衛生責任者 | S23: 安全衛生責任者 | AF23: 安全衛生責任者 | AS23: 安全衛生責任者
E24: 主任技術者 | S24: 主任技術者 | AF24: 主任技術者 | AS24: 主任技術者
F25: 特定専門工事の該当 | J25: 有 ・ 無 | T25: 特定専門工事の該当 | X25: 有 ・ 無 | AG25: 特定専門工事の該当 | AK25: 有 ・ 無 | AT25: 特定専門工事の該当 | AX25: 有 ・ 無
D26: 工事 | E26: 専門技術者 | R26: 工事 | S26: 専門技術者 | AE26: 工事 | AF26: 専門技術者 | AR26: 工事 | AS26: 専門技術者
F27: 担当工事内容 | T27: 担当工事内容 | AG27: 担当工事内容 | AT27: 担当工事内容
D28: 工期 | J28: ～ | R28: 工期 | X28: ～ | AE28: 工期 | AK28: ～ | AR28: 工期 | AX28: ～
R30: （二次下請負協力会社） | AE30: （三次下請負協力会社） | AR30: （四次下請負協力会社）
S31: 会社名・事業者ID | AF31: 会社名・事業者ID | AS31: 会社名・事業者ID
S32: 代表者名 | AF32: 代表者名 | AS32: 代表者名
S33: 許可番号 | AF33: 許可番号 | AS33: 許可番号
S34: 一般/特定の別 | X34: 一般 / 特定 | AF34: 一般/特定 | AK34: 一般 / 特定 | AS34: 一般/特定 | AX34: 一般 / 特定
S35: 安全衛生責任者 | AF35: 安全衛生責任者 | AS35: 安全衛生責任者
S36: 主任技術者 | AF36: 主任技術者 | AS36: 主任技術者
T37: 特定専門工事の該当 | X37: 有 ・ 無 | AG37: 特定専門工事の該当 | AK37: 有 ・ 無 | AT37: 特定専門工事の該当 | AX37: 有 ・ 無
R38: 工事 | S38: 専門技術者 | AE38: 工事 | AF38: 専門技術者 | AR38: 工事 | AS38: 専門技術者
T39: 担当工事内容 | AG39: 担当工事内容 | AT39: 担当工事内容
R40: 工期 | X40: ～ | AE40: 工期 | AK40: ～ | AR40: 工期 | AX40: ～
O42: （記入要領） | R42: １． | T42: 一次下請負協力会社は、二次下請負協力会社以下の協力会社から提出された「再下請負通知書」に基づいて本表を作成の上、元請に届出ること。
R43: ２． | T43: この下請負協力会社編成表でまとめきれない場合には、本様式をコピーするなどして適宜使用すること。
...

Sheet 様式3
B1: 様式３号
O2: 工事安全管理計画表
D4: =IF(作成準備!F10="","",作成準備!F10) | T4: =IF(作成準備!B15="","",作成準備!B15) -> 一次
B5: 作業所の名称 | M5: （ | N5: 年 月 日 | P5: 作成 ） | T5: 会社名 | U5: =IF(作成準備!F17="","",作成準備!F17)
B6: 作業所長 | E6: =IF(作成準備!F11="","",作成準備!F11) | I6: 殿 | T6: 現場代理人 | V6: =IF(作成準備!F19="","",作成準備!F19)
B8: 項 目 | D8: 作 業 名 | G8: 月 | I8: 月 | J8: 月 | L8: 月 | O8: 月 | P8: 月 | Q8: 月 | S8: 月 | T8: 月 | U8: 月 | W8: 月 | Y8: 月
B13: 主な作業
B14: 工程
B19: 持込みする主な機械
B20: （ 名 称 ・ 台 数）
B23: 予想される災害
B24: と
B26: 防止対策
B31: 自社安全行事
B35: １． 提出会社は当社と直接契約を締結した会社（一次下請）とする。
B36: ２． 予想される災害と対策は具体的に記入する。
B37: ３． 自社安全行事は、決まっているスケジュールについて記入する。

Sheet 様式4
B1: 様式４号
T2: 年 月 日
A4: 作業主任者・作業指揮者選任報告書
E7: =IF(作成準備!F10="","",作成準備!F10)
A8: 作業所の名称
A9: 作 業 所 長 | H9: =IF(作成準備!F11="","",作成準備!F11) | O9: 殿
Q10: =IF(作成準備!B22="","",作成準備!B22)
Q11: 会社名 | T11: =IF(作成準備!F23="","",作成準備!F23)
Q12: 現場代理人 | V12: =IF(作成準備!F24="","",作成準備!F24)
B14: 当工事の施工にあたり、下記の者を選任しましたので、資格証書（写）を添えて 報告いたします。
B16: 氏 名 | G16: 作業名 | L16: 主任者 | N16: 区別 | O16: 年齢 | P16: 選任 | T16: 経験 | U16: 免許・資格等
L17: 指揮者 | P17: 年月日 | T17: 年数 | U17: 取得年月日及び番号
O18: 才 | P18: 年 月 日 | T18: 年 | U18: 年 月 日

Sheet 様式5
A1: 様式５号 | M1: 作 業 員 名 簿
N2: （ | O2: 年 月 日 | Q2: 作成） | Y2: 元請 確認欄
A3: 作業所の名称 ・現場ID | D3: =IF(作成準備!F10="","",作成準備!F10)
A4: 所長名 | F4: =IF(作成準備!F11="","",作成準備!F11) | L4: 殿 | Z4: 提出日 | AA4: 年 月 日
P6: 一次会社名 ・事業者ID | Q6: =IF(作成準備!F17="","",作成準備!F17) | X6: =IF(作成準備!B22="","",作成準備!B22) | Y6: 会社名 | Z6: =IF(作成準備!F23="","",作成準備!F23)
X7: ・事業者ID
A9: 番号 | B9: ふりがな | F9: 職種 | I9: ※ | J9: 生年月日 | M9: 健康保険 | P9: 建設業退職金共済制度 | R9: 教 育・資 格・免 許 | AA9: 入場年月日
B11: 氏名 | M11: 年金保険 | P11: 中小企業退職金共済制度
J12: 年齢 | R12: 雇入・職長 特別教育 | V12: 技能講習 | Y12: 免 許 | AA12: 受入教育 実施年月日
B13: 技能者ID | M13: 雇用保険 | P13: その他（ ）
J15: 年 月 日 | AA15: 年 月 日
L18: 歳 | AA18: 年 月 日
J21: 年 月 日 | AA21: 年 月 日
L24: 歳 | AA24: 年 月 日
J27: 年 月 日 | AA27: 年 月 日
L30: 歳 | AA30: 年 月 日
J33: 年 月 日 | AA33: 年 月 日
L36: 歳 | AA36: 年 月 日
J39: 年 月 日 | AA39: 年 月 日
L42: 歳 | AA42: 年 月 日
J45: 年 月 日 | AA45: 年 月 日
L48: 歳 | AA48: 年 月 日
J51: 年 月 日 | AA51: 年 月 日
L54: 歳 | AA54: 年 月 日
J57: 年 月 日 | AA57: 年 月 日
L60: 歳 | AA60: 年 月 日
A63: （注)１.※印欄には次の記号を入れる。 | R63: （注）３．各社別に作成するのが原則だが、リース機械等の運転者は一緒でもよい。
R64: （注）４．資格・免許等の写しを添付することが望ましい。
B66: …現場代理人 | E66: …作業主任者（（注）2.) | K66: …女性作業員 | M66: …18歳未満の作業員 | R66: （注）５．健康保険欄には、左欄に健康保険の名称（健康保険組合、協会けんぽ、建設国保、 国民健康保険）を 記載。上記の保険に加入しておらず、後期高齢者である等により、国民健康保険の適用除外である場合には、左 欄に「適用除外」と記載。
B69: …主任技術者 | E69: …職 長 | I69: …安全衛生責任者 | L69: …能力向上教育 | N69: …危険有害業務・再発防止教育
R70: （注）６．年金保険欄には、左欄に年金保険の名称（厚生年金、国民年金）を記載。 各年金の受給者である場合は、左欄に「受給者」と記載。
B71: …外国人技能実習生 | F71: …外国人建設就労者 | L71: …１号特定技能外国人
R72: （注）７．雇用保険欄には右欄に被保険者番号の下４けたを記載。（日雇労働被保 険者の場合には 左欄に 「日雇保険」と記載）事業主である等により雇用保険の適用除外である場合には左欄に「適用除外」と記載。
A73: （注）２.作業主任者は作業を直接指揮する義務を負うので、同時に施工されている他の現場や、同一現場においても 他の作業個所との作業主任者を兼務することは、法的に認められていないので、複数の選任としなければならない。
R74: （注）８．建設業退職金共済制度及び中小企業退職金共済制度への加入の有無については、それぞれの欄に「有」 又は「無」と記載。
R76: （注）９．安全衛生に関する教育の内容（例：雇入時教育、職長教育、建設用リフトの運転の業務に係る特別教育） については「雇入・職長特別教育」欄に記載。
C77: 本書面に記載した内容は、作業員名簿として安全衛生管理や労働災害発生時の緊急連絡・ 対応のために元請負業者に提示することについて、記載者本人は同意しています。
R78: （注）１０．建設工事に係る知識及び技術又は技能に関する資格（例：登録○○基幹技能者、○級○○施工管理技 士）を有する場合は、「免許」欄に記載。
R80: （注）１１．記載事項の一部について、別紙を用いて記載しても差し支えない。

Sheet 様式6
A1: 様式６号
B3: 有資格者、免許、各種修了証の写をこの台帳に貼って下さい。

Sheet 様式7
B1: 様式７号
U2: 年 月 日
A3: 年 少 者 ・ 女 性 就 労 報 告 書
E6: =IF(作成準備!F10="","",作成準備!F10)
A7: 作業所の名称
A8: 作 業 所 長 | I8: =IF(作成準備!F11="","",作成準備!F11) | O8: 殿
Q10: =IF(作成準備!B22="","",作成準備!B22)
Q11: 会社名 | T11: =IF(作成準備!F23="","",作成準備!F23)
Q12: 現場代理人 | V12: =IF(作成準備!F24="","",作成準備!F24)
C15: 貴作業所の工事を施工するにあたり、下記の者は年少者（満１８才未満）・女性(妊婦・産婦)ですが、
C16: 当社の責任において就労させますので報告します。また、危険有害業務には就労させません。
A18: 記
B20: 氏 名 | H20: 生 年 月 日 | L20: 性別 | N20: 年齢 （満） | P20: 年少者 | R20: 妊婦 | T20: 産婦 | V20: 作 業 内 容
D27: 年少者・妊婦・産婦該当欄に〇を記入する。
D29: １．妊婦とは・・・・妊娠中の女性
D30: ２．産婦とは・・・・産後１年以内の女性
D31: ３．年少者とは・・・１５歳以上１８歳未満(ただし１５歳の誕生日から最初の３月３１日までを除く)
D32: 年少者の就労の場合は年齢証明書(住民票抄本可)を添付します

Sheet 様式8
B1: 様式８号
U2: 年 月 日
A3: 高 齢 者 就 労 報 告 書
E5: =IF(作成準備!F10="","",作成準備!F10)
A6: 作業所の名称
A7: 作 業 所 長 | I7: =IF(作成準備!F11="","",作成準備!F11) | O7: 殿
Q9: =IF(作成準備!B22="","",作成準備!B22)
Q10: 会社名 | T10: =IF(作成準備!F23="","",作成準備!F23)
Q11: 現場代理人 | V11: =IF(作成準備!F24="","",作成準備!F24)
C13: 貴作業所の工事を施工するにあたり、下記の者は高齢者（６５歳以上）ですが、当社の責任において
C14: 就労させますので報告します。
C15: 原則的には危険有害業務の就労はさけ、やむを得ず就労させる場合は職長の直接指揮により、安全
C16: 措置等を講じて就労させます。
A18: 記
B20: 氏 名 | I20: 生 年 月 日 | N20: 年齢（満） | Q20: 職 種 | V20: 作 業 内 容

Sheet 様式9
B1: 様式９号
T2: 年 月 日
A3: 外国人建設就労者等建設現場入場届出書
E5: =IF(作成準備!F10="","",作成準備!F10)
A6: 作業所の名称
A7: 作 業 所 長 | G7: =IF(作成準備!F11="","",作成準備!F11) | M7: 殿
O8: =IF(作成準備!B22="","",作成準備!B22)
O9: 会社名 | S9: =IF(作成準備!F23="","",作成準備!F23)
O10: 現場代理人 | T10: =IF(作成準備!F24="","",作成準備!F24)
B12: 外国人建設就労者等の建設現場への入場について下記のとおり届出ます。
A13: 記
B14: １ 建設工事に関する事項
B15: 建設工事の名称
B16: 施工場所
B18: ２ 建設現場への入場を届け出る外国人建設就労者等に関する事項
B19: ※ ４名以上の入場を申請する場合、必要に応じて欄の追加や別紙とする等対応すること。
H20: 外国人建設就労者等１ | M20: 外国人建設就労者等２ | T20: 外国人建設就労者等３
B21: 氏 名
B22: 生年月日
B23: 性別
B24: 国籍
B25: 従事させる業務
B26: 現場入場の期間
B27: 在留資格 | I27: 特定活動（外国人建設就労者） | N27: 特定活動（外国人建設就労者） | U27: 特定活動（外国人建設就労者）
B28: ※いずれかをチェック | I28: 特定技能 | N28: 特定技能 | U28: 特定技能
B29: 在留期間満了日
B30: ＣＣＵＳ登録情報が最新 | I30: 確認済 （確認日： ） | N30: 確認済 （確認日： ） | U30: 確認済 （確認日： ）
B31: であることの確認
B32: ※登録義務のある者のみ
B34: ３ 受入企業・建設特定技能受入計画及び適正監理計画に関する事項
B35: 就労場所
B36: 従事させる業務の内容
B37: 従事させる期間（計画期間）
B38: 責任者（連絡窓口） | J38: 役職 | N38: 氏名 | T38: 連絡先
B39: ※ 就労場所・従事させる業務の内容・従事させる期間については、建設特定技能受入計画及び適正監
B40: 理計画の記載内容を正確に転記すること。
B42: 〇添付書類
B43: 提出にあたっては下記に該当するものの写し各１部を添付すること。
B44: １ 建設特定技能受入計画認定証又は適正監理計画認定証（複数ある場合にはすべて。建設特定技能
B45: 受入計画認定証については別紙（建設特定技能受入計画に関する事項）も含む。）
...

Sheet 様式10-1
A1: 様式10-1号
U2: 年 月 日
F3: 持込機械等 | L3: 電 動 工 具 | Q3: 等 | R3: 使用届
L5: 電気溶接機
E6: =IF(作成準備!F10="","",作成準備!F10)
A7: 作業所の名称
A8: 作 業 所 長 | H8: =IF(作成準備!F11="","",作成準備!F11) | O8: 殿
Q9: =IF(作成準備!B22="","",作成準備!B22)
Q10: 会社名 | T10: =IF(作成準備!F23="","",作成準備!F23)
Q11: 現場代理人 | V11: =IF(作成準備!F24="","",作成準備!F24)
B13: このたび、下記機械等を10-2号の点検表により、点検整備のうえ持込・使用しますので、お届けします。
B14: なお、使用に際しては関係法令に定められた事項を遵守します。
A16: 番号 | B16: 機 械 名 | I16: 規格性能 | M16: 管理番号 | Q16: 持込年月日 | V16: 点検者 | Y16: 取扱者
M17: 受付番号 | Q17: 搬出予定年月日
A18: １ | P18: 年 月 日
P19: 年 月 日
A20: ２ | P20: 年 月 日
P21: 年 月 日
A22: ３ | P22: 年 月 日
P23: 年 月 日
A24: ４ | P24: 年 月 日
P25: 年 月 日
A26: ５ | P26: 年 月 日
P27: 年 月 日
A28: ６ | P28: 年 月 日
P29: 年 月 日
A30: ７ | P30: 年 月 日
P31: 年 月 日
A32: ８ | P32: 年 月 日
P33: 年 月 日
A34: ９ | P34: 年 月 日
P35: 年 月 日
A36: 10 | P36: 年 月 日
P37: 年 月 日
A38: 機械の特性、その他その 使用上注意すべき事項
A41: 元 請 確 認 欄（サイン又は印) | P41: 受 付 確 認 者
A42: 担当者 | P42: 年 月 日

Sheet 様式10-2
B1: 様式10-2号
B2: 持込時の点検表
M3: 点検 | O3: 年 月 日
B4: 電 動 工 具 ・ 電 気 溶 接 機 等 | U4: 機 械 名
G5: 番号 | J5: １ | K5: ２ | L5: ３ | M5: ４ | N5: ５ | O5: ６ | P5: ７ | Q5: ８ | R5: ９ | S5: 10 | T5: ① | U5: 電動カンナ
C6: 点検事項 | T6: ② | U6: 電動ドリル
C7: アース線
T8: ③ | U8: 電動丸のこ
C9: 接地クランプ | T9: ④ | U9: グラインダー等
C11: キャブタイヤ | T11: ⑤ | U11: アーク溶接機
T12: ⑥ | U12: ウインチ
C13: コネクタ
T14: ⑦ | U14: 発電機
C15: 接地端子の締結 | T15: ⑧ | U15: トランス
C17: 充電部の絶縁 | T17: ⑨ | U17: コンプレッサー
T18: ⑩ | U18: 送風機
C19: 自動電撃防止装置
T20: ⑪ | U20: ポンプ類
C21: 絶縁ホルダー | T21: ⑫ | U21: ミキサー類
C23: 溶接保護面 | T23: ⑬ | U23: コンベヤー
T24: ⑭ | U24: 吹付機
C25: 操作スイッチ
T26: ⑮ | U26: ボーリングマシン
C27: 絶縁抵抗測定値 | T27: ⑯ | U27: 振動コンパクター
C29: 各種ブレーキの作動 | T29: ⑰ | U29: バイブレーター
T30: ⑱ | U30: 鉄筋加工機
C31: 手すり・囲い
T32: ⑲ | U32: 電動チェーンブロック
C33: フックのはずれ止め | T33: ⑳ | U33: その他
C35: ワイヤーロープ・チェーン
C37: 滑車
C39: 回転部の囲い等
C41: 危険表示
B43: そ の 他
B51: （注） | D51: 1. | E51: 持込機械等の届出は、当該機械を持ち込む会社(貸与を受けた会社が下請の場合はその会社）
E52: の代表者が所長に届け出ること。
D53: 2. | E53: 点検表の点検結果欄には、該当する箇所へ✓印を記入すること。
D54: 3. | E54: 絶縁抵抗の測定については、実測値（ＭΩ）を記入すること。
D55: 4. | E55: 持込機械届受理証を持込機械に貼付すること。

Sheet 様式11-1
A1: 様式11-1号
U2: 年 月 日
F3: 持込機械等 | L3: 移動式クレーン | S3: 等 | T3: 使用届
L5: 車両系建設機械
E6: =IF(作成準備!F10="","",作成準備!F10)
A7: 作業所の名称
A8: 作業所長 | H8: =IF(作成準備!F11="","",作成準備!F11) | O8: 殿
Q9: =IF(作成準備!B22="","",作成準備!B22)
Q10: 会社名 | T10: =IF(作成準備!F23="","",作成準備!F23)
Q11: 現場代理人 | V11: =IF(作成準備!F24="","",作成準備!F24)
C13: このたび、下記機械等を11-2号の点検表により、点検整備のうえ持込・使用しますので、お届けします。
C14: なお、使用に際しては関係法令に定められた事項を遵守します。
H16: 名 称 | K16: メーカー | O16: 規 格 ・ 性 能 | V16: 製造年 | Y16: 管理番号
Y17: （製造番号）
B18: 機械 | X18: 年
B20: 持込年月日 | H20: 年 月 日 | L20: 使用目的 | V20: 自社・リースの区別
B21: 搬出予定年月日 | H21: 年 月 日 | V21: 自 社 ・ リース
B22: 運 転 者 （取 扱 者） | G22: 氏 名 | H22: 氏 名 | O22: 資 格 の 種 類
H23: （正）
H24: （副）
A25: 有効期限 自主検査 | D25: 定期 | E25: 年次 | H25: 年 月 日 | L25: 移動式クレーン 等の性能検査 有効期限 | Q25: 年 月 日 | U25: 自動車検査証有効期限 | X25: 年 月 日
E26: 月次 | H26: 年 月 日
D27: 特 定 | H27: 年 月 日
B28: 任意保険 | H28: 加入額 | J28: 対人 | O28: 千円 | Q28: 搭乗者 | V28: 千円 | X28: 有効期限
J29: 対物 | O29: 千円 | Q29: その他 | V29: 千円 | X29: 年 月 日
B30: 接触防止措置等
B32: 機械等の特性・
B33: その他その使用
B34: 上注意すべき
B35: 事項
A37: 元 請 確 認 欄（サイン又は印) | M37: 受 付 番 号 | U37: 受 付 確 認 者
A38: 担当者 | U38: 年 月 日

Sheet 様式11-2
A1: 様式11-2号
A2: 持込時の点検表
A4: 移 動 式 ク レ ー ン 等 | J4: 車 両 系 建 設 機 械 等 | V4: 機 械 名
A5: 点 検 事 項 | H5: 点検結果 | J5: 点 検 事 項 | S5: 点検結果 | U5: ① | V5: クレーン
H6: (a) | I6: (b) | S6: (a) | T6: (b) | U6: ② | V6: 移動式クレーン
A7: Ａクレーン部（上部旋回体） | C7: 安全装置 | E7: 巻過防止装置 | J7: Ｄ安全装置 | L7: 各種ロック | O7: 旋回 | U7: ③ | V7: デリック
E8: 過負荷防止装置 | O8: バケット | U8: ④ | V8: エレベーター
E9: フックのはずれ止め | O9: ブーム・アーム | U9: ⑤ | V9: 建設用リフト
E10: 起伏制御装置 | U10: ⑥ | V10: 高所作業車
E11: 旋回警報装置 | U11: ⑦ | V11: ゴンドラ
C12: 制御装置・作業装置 | E12: 主巻・補巻 | U12: ⑧ | V12: ブル・ドーザー
E13: 起伏・旋回 | M13: 警報装置 | U13: ⑨ | V13: モーター・グレーダー
E14: クラッチ | M14: アウトリガー | U14: ⑩ | V14: トラクターショベル
E15: ブレーキ・ロック | M15: ヘッドガード | U15: ⑪ | V15: ずり積機
E16: ジブ | M16: 照明 | U16: ⑫ | V16: スクレーパー
E17: 滑車 | J17: Ｅ作業装置 | M17: 操作装置 | U17: ⑬ | V17: スクレープ・ドーザー
E18: フック・バケット | M18: バケット・ブレード | U18: ⑭ | V18: パワーショベル
E19: ﾜｲﾔｰﾛｰﾌﾟ・ﾁｪｰﾝ | M19: ブーム・アーム | U19: ⑮ | V19: ドラグ・ショベル
E20: 玉掛用具 | M20: ジブ | V20: （油圧ショベル）
C21: その他 | E21: 操作装置 | M21: リーダ | U21: ⑯ | V21: ドラグライン
E22: 性能表示 | M22: ハンマ・オーガ・バイブロ | U22: ⑰ | V22: クラムシェル
E23: 照明 | M23: 油圧駆動装置 | U23: ⑱ | V23: バケット掘削機
A24: Ｂ車輌部（下部走行体） | C24: 走行部 | E24: ブレーキ | M24: ワイヤロープ・チェーン | U24: ⑲ | V24: トレンチャー
E25: クラッチ | M25: 吊り具等 | U25: ⑳ | V25: コンクリート圧砕機
E26: ハンドル | M26: 滑車 | U26: ㉑ | V26: くい打機
E27: タイヤ | J27: Ｆ走行部 | M27: ブレーキ | U27: ㉒ | V27: くい抜機
E28: クローラ | M28: 駐車ブレーキ | U28: ㉓ | V28: アース・ドリル
C29: 安全装置等 | E29: 警報装置 | M29: ブレーキロック | U29: ㉔ | V29: ﾘﾊﾞｰｽ・ｻｰｷｭﾚｰｼｮﾝ・ﾄﾞﾘﾙ
E30: 各種ミラー | M30: クラッチ | U30: ㉕ | V30: せん孔機
E31: 方向指示器 | M31: 操縦装置 | U31: ㉖ | V31: アース・オーガー
E32: 前後照灯 | M32: タイヤ・鉄輪 | U32: ㉗ | V32: ﾍﾞｰﾊﾟｰ・ﾄﾞﾚｰﾝ・ﾏｼﾝ
E33: 左折プロテクター | M33: クローラ | U33: ㉘ | V33: 地下連続壁施工機械
E34: アウトリガー | J34: Ｇ電気装置 | M34: 配電盤 | U34: ㉙ | V34: ローラー
E35: 昇降装置 | M35: 碍配線 | U35: ㉚ | V35: クローラドリル
E36: ベッセル | M36: 絶縁 | U36: ㉛ | V36: ドリルジャンボ
E37: 後方監視装置 | M37: アース | U37: ㉜ | V37: ロードヘッダー
A38: Ｃゴンドラ | E38: 突りょう | U38: ㉝ | V38: アスファルトフィニッシャー
E39: 作業床 | J39: Ｈその他 | U39: ㉞ | V39: スタビライザ
E40: 昇降装置 | U40: ㉟ | V40: ロードプレーナ
E41: 電気装置 | U41: ㊱ | V41: ロードカッター
...

Sheet 様式12
A1: 様式12号
U2: 年 月 日
K3: 工 事 | O3: 用 | Q3: 車 両 届
K5: 通 勤
E6: =IF(作成準備!F10="","",作成準備!F10)
A7: 作業所の名称
A8: 作業所長 | H8: =IF(作成準備!F11="","",作成準備!F11) | O8: 殿
Q9: =IF(作成準備!B22="","",作成準備!B22)
Q10: 会社名 | T10: =IF(作成準備!F23="","",作成準備!F23)
Q11: 現場代理人 | V11: =IF(作成準備!F24="","",作成準備!F24)
C13: 下記の通り （ 工事 ・ 通勤 ）用 車両を運行しますので、お届けいたします。
B15: 使用期間 | L15: 年 月 日 | Q15: ～ | T15: 年 月 日
B16: 所有者氏名 | P16: 安 全 運 転 管 理 者 氏 名
A17: 車両 | D17: 型式 | P17: 車 両 番 号
D18: 車検期間 | L18: 年 月 日 | Q18: ～ | T18: 年 月 日
A19: 運転手 | D19: 氏名 | P19: 生 年 月 日 | U19: 年 月 日
D20: 住所
D21: 免許の種類 | P21: 免 許 番 号
A22: 自賠責 | D22: 保険会社名 | P22: 証 券 番 号
D23: 保険期間 | L23: 年 月 日 | Q23: ～ | T23: 年 月 日
A24: 任意保険 | D24: 保険会社名 | P24: 証 券 番 号
C25: 対 人 | N25: 万円 | P25: 対 物 | Z25: 万円
D26: 保険期間 | L26: 年 月 日 | Q26: ～ | T26: 年 月 日
B27: 運行経路
B28: (注) | D28: １. | E28: この届出書は車両1台ごとに提出すること。
D29: ２. | E29: この届出書に「任意保険」の証書(写)を添付し提出すること。
D30: ３. | E30: 運転者が変わった場合その都度届け出ること。
E31: 経路については、協議事項とし元請から指示された場合提出する。
A33: 『工事用車両届』 | F33: 当書式は、工事を施工するうえで現場内に入っている工事車両を元請が管理（把握）する必要があり、協力会社が
F34: 提出するものです。
F35: 現場で災害・事故が発生した場合、運転者氏名・免許・保険（自賠責・任意保険）等を確認する為に必要な書類に
F36: なります。
F37: また、ダンプ或いは生コン車・廃棄物運搬車等については、運行経路を確認しておくことが必要です。なお、元請
F38: から指示された場合は、運行経路図を提出してください。

Sheet 様式13
B1: 様式13号
U2: 年 月 日
A3: 有機溶剤・特定化学物質等持込使用届
E5: =IF(作成準備!F10="","",作成準備!F10)
A6: 作業所の名称
A7: 作 業 所 長 | H7: =IF(作成準備!F11="","",作成準備!F11) | O7: 殿
Q9: =IF(作成準備!B22="","",作成準備!B22)
Q10: 会社名 | T10: =IF(作成準備!F23="","",作成準備!F23)
Q11: 現場代理人 | V11: =IF(作成準備!F24="","",作成準備!F24)
C13: このたび、下記の有機物質・特定化学物質等を持込・使用するのでお届けします。
C14: なお、使用に際しては、ＳＤＳ（安全データシート）内容を掲示し、従業員に対して周知を行うとともに
C15: 関係法規を遵守します。
B17: 使用材料 | G17: 商 品 名 | L17: メ ー カ ー 名 | Q17: 搬入量 | T17: 種 別 | X17: 含有成分
S18: ㎏
S19: ㎏
S20: ㎏
S21: ㎏
S22: ㎏
B23: 使用場所
B25: 保管場所 | P25: 使用機械
P26: 又は工具
B27: 使用期間 | H27: 年 月 日 | N27: ～ | S27: 年 月 日 | Y27: （予定）
B28: 作業主任者等 | G28: 氏 名
G29: 作業手順書 | L29: 添 付 （ 有 ・ 無 ）
B30: 化学物質管理者 | G30: 氏 名 | P30: 保護具着用 | T30: 氏 名
P31: 管理責任者
B32: ＳＤＳ | G32: Ｓ Ｄ Ｓ | L32: 添 付 （ 有 ・ 無 ）
B33: 換気等対策
A35: （注） | C35: 1. | D35: 商品名、種別、含有成分等は材料に添付されているラベル成分表等から写しを記入して下さい。
C36: 2. | D36: 危険物とは、ガソリン、灯油、プロパン、アセチレンガス等をいいます。
C37: 3. | D37: 有害物とは、塗装、防火などに使用する有機溶剤、特定化学物質などをいいます。

Sheet 様式14
B1: 様式14号
U2: 年 月 日
A3: 火 気 使 用 届
E5: =IF(作成準備!F10="","",作成準備!F10)
A6: 作業所の名称
A7: 作 業 所 長 | I7: =IF(作成準備!F11="","",作成準備!F11) | O7: 殿
Q8: =IF(作成準備!B22="","",作成準備!B22)
Q9: 会社名 | T9: =IF(作成準備!F23="","",作成準備!F23)
Q10: 現場代理人 | V10: =IF(作成準備!F24="","",作成準備!F24)
D12: 下記の要領で火気を使用するのでお届けします。なお、火気使用の終了時には、必ず
D13: その旨報告致します。
B15: 使用場所
B18: 使用目的 | H18: 溶接、溶断、圧接、防水、乾燥、採暖、 | Q18: 使 用 期 間 | U18: 月 日 | X18: ～ | Y18: 月 日
H20: 湯沸、炊事、その他（ ） | Q20: 使用時間(原則) | U20: 0.35416667 | X20: ～ | Y20: 0.70833333
B22: 火気の種類 | H22: 電気、ガス、灯油、重油、木炭、薪、その他（ | Z22: ）
B25: 管理方法 | H25: 消火器、防火用水、消火砂、防炎シート、受皿、標識、監視
H27: 取扱上の注意 （ | Z27: ）
B29: 火元責任者
B30: （後始末巡回者）
B31: 火気使用責任者
A34: ※ | C34: 使用目的、火気の種類、管理方法は該当事項を〇で囲んで下さい。

Sheet 様式15
A1: 様式15号
A2: 当作業所の安全施工サイクル
A5: 会社名 | L5: 作業所の名称
A7: 代表者名 | I7: 殿 | L7: 所長名
A9: 活 動 名 | H9: 日 時 | K9: 内 容 | O9: 参 加 者
A11: 毎 日 の サ イ ク ル | D11: 朝礼 | H11: 毎日 | J11: 時より | L11: 全員参加による当日の | P11: 作業所全員
L12: 安全作業通知
D14: ＫＹミーティング | L14: 当日作業の危険予知活動 | P14: 係員・職長・作業員
D16: 使用開始前点検 | H16: 作業開始前 | L16: 持込機械、工具類 | P16: 職長
D18: 作業所長巡視 | H18: 随 時 | L18: 統括管理の遂行 | P18: 統括安全衛生責任者
P19: ・元方安全管理者
D21: 安全パトロール | H21: 〃 | L21: 点検表によるチェック | P21: 安全当番
D23: 作業中の指導監督 | H23: 〃 | L23: 打合せ事項の確認 | P23: 係員・職長
D25: 安全工程打合せ | H25: 毎日 | J25: 時より | L25: 作業に伴う災害予測と | P25: 所長・係員・職長
L26: 予防
D28: 持場跡片付け | L28: 作業終了前５分間の片付 | P28: 職長・作業員
D30: 終業時の確認 | P30: 係員・職長
A33: 毎週の | B33: サイクル | D33: 安全衛生委員会 | H33: 毎週 | J33: 曜日 | L33: 週間の災害予測予防 | P33: 所長・係員・職長
D35: 一斉清掃 | H35: 毎週 | J35: 曜日 | L35: 全員による作業所内片付 | P35: 作業所全員
J36: 時より
A39: 毎月の | B39: サイクル | D39: 月例点検 | H39: 毎月 | J39: 日 | L39: 法定点検・安全衛生自主 | P39: 係員・職長
L40: 点検表による点検
D42: 災害防止協議会 | H42: 毎月 | J42: 日 | L42: 全協力業者代表者による | P42: 所長・係員・協力業者
L43: 安全審議 | P43: 代表
A46: 随時のサイクル | D46: 新規入場者教育 | H46: 都度 | L46: 現場規律、災害防止対策 | P46: 新規入場者・係員・職長
L47: 等説明
D49: 職長会 | L49: 職長相互の親睦と啓発 | P49: 職長
D51: 安全大会 | L51: 安全意識高揚、月間安全 | P51: 作業者全員
L52: 目標説明等
