Workbook

Sheet 請求書提出について
A1: １、請求書の種類
A2: （A）請求総括表……………… | D2: 工事別請求書を集計し、請求総額・振込先を記載する書式です。
D3: 請求件数が１件しかない場合でも提出してください。
A4: （B）請負用請求書…………… | D4: 注文書が発行されている工事、または出来高払いによる工事の
D5: 請求に使用してください。
A6: （C）小口又は物品用請求書… | D6: 常用工事、材料・物品の購入請求の場合に使用してください。
D7: 記載欄が不足する場合は、別紙の通りと記載し、（C-1）の
D8: 内訳明細書をご利用ください。
D9: （貴社の明細書を添付しても構いません）
A11: ２、入力方法
A12: ・入力は、各請求書の「①取引先控」（セルに色がついているページ）にて行ってください。
A13: ②【提出用】以降は、「①取引先控」に入力した内容がそのまま反映されますので入力は
A14: 不要です。
A15: ・入力欄の色については、以下の通りです。
B16: ………… | C16: この色の欄は、文字や数字を入力すると | H16: 色の欄にも、
C17: その入力内容が反映されます。
B18: ………… | C18: この色の欄は、該当する場合はチェック□をオンにしてください。
B20: ………… | C20: この色の欄は、リストが設定されていますので、該当する項目を選択して
C21: ください。
B22: ………… | C22: この色の欄は、 | F22: 色の欄に入力された文字や数字が、
C23: 自動で反映（計算）されます。直接この色の欄への入力はできません。
B24: ………… | C24: この色の欄は、 | F24: 色の欄に入力された文字や数字が、
C25: 自動で反映（計算）されます。
C26: 直接入力することもできますが、その場合、その欄の自動入力は解除
C27: されますのでご注意ください。
A28: ※これらの入力欄の色は、入力時のみ反映されます。印刷時には色はつきません。
A29: ・各書式には、入力欄以外の部分に保護がかかっています。
A30: （「校閲」→「シート保護の解除」→パスワード：3261 で保護を解除できます）
A32: ３、請求書の締切日・提出期限・支払日
A33: ・請求書の締切………………… | D33: 月末締切
A34: ・請求書の提出期限…………… | D34: 翌月５日まで（本社必着）
D35: ※郵便配達の遅延、GWや年末年始等特別な場合は考慮します。
A36: ・支払日………………………… | D36: 翌月25日（金融機関が休業日の場合は翌営業日）
A38: ４、その他
A39: ・適格請求書発行事業者の登録のない場合は、免税事業者の欄にチェック☑をしてください。
A40: ・取引先コードは、弊社から通知済みの場合は必ず入力してください。
A41: ・振込先金融機関、口座番号を変更する場合は書面にて連絡してください。

Sheet 【記入例】請求総括表A
P2: 請 求 総 括 表 A | AJ2: ① | AK2: 取引先控
C4: 株式会社 石 井 組 御中 | O4: 西暦 | Q4: 2023 | S4: 年 | T4: 8 | U4: 月 末日締切 | AA4: 適格請求書発行 事業者登録番号 | AF4: T1234567891023 | AL4: 免税 事業者 | AR4: FALSE
B6: 請 求 合 計 額 （消 費 税 込） | J6: =AB26 -> 7338385 | R6: － | W6: 住 所 | AA6: 新発田市○○町○丁目〇番○号
W7: 会 社 名 | AA7: 株式会社 ○○○○
B9: 振込先 | C9: ○○銀行 | L9: ○○支店 | W9: 代 表 者 | AA9: 代表取締役 ○○ ○○ | AN9: ㊞
C10: 預金種別 | I10: ○○ | K10: 口座番号 | N10: 123456 | W10: Ｔ Ｅ Ｌ | Z10: 0000-00-0000 | AF10: ＦＡＸ | AI10: 0000-00-0000
C11: フリガナ | I11: カ）フリガナ
C12: 口座名義 | I12: (株)○○○○ | AG12: 取引先コード | AL12: 123456
B15: 工 事 名 | O15: 税抜請求額 | U15: 消費税額 | AB15: 税込請求額 | AH15: 摘 要
B16: ○○工事 | O16: 5000000 | U16: 500000 | AB16: =O16+U16 -> 5500000
B17: ○○○工事 | O17: 1674550 | U17: 163835 | AB17: =O17+U17 -> 1838385 | AH17: 軽減税率分あり
B18: 以下余白 | U18: =O18*$Y$15% -> 0 | AB18: =O18+U18 -> 0
U19: =O19*$Y$15% -> 0 | AB19: =O19+U19 -> 0
U20: =O20*$Y$15% -> 0 | AB20: =O20+U20 -> 0
U21: =O21*$Y$15% -> 0 | AB21: =O21+U21 -> 0
U22: =O22*$Y$15% -> 0 | AB22: =O22+U22 -> 0
U23: =O23*$Y$15% -> 0 | AB23: =O23+U23 -> 0
U24: =O24*$Y$15% -> 0 | AB24: =O24+U24 -> 0
U25: =O25*$Y$15% -> 0 | AB25: =O25+U25 -> 0
B26: 合 計 | O26: =SUM(O16:T25) -> 6674550 | U26: =SUM(U16:AA25) -> 663835 | AB26: =SUM(AB16:AG25) -> 7338385

Sheet 【入力用】請求総括表A
P2: 請 求 総 括 表 A | AJ2: ① | AK2: 取引先控
C4: 株式会社 石 井 組 御中 | O4: 西暦 | S4: 年 | U4: 月 末日締切 | AA4: 適格請求書発行 事業者登録番号 | AL4: 免税 事業者 | AR4: FALSE
B6: 請 求 合 計 額 （消 費 税 込） | J6: =AB26 -> 0 | R6: － | W6: 住 所
W7: 会 社 名
B9: 振込先 | K9: 銀行 | R9: 支店 | W9: 代 表 者 | AN9: ㊞
C10: 預金種別 | K10: 口座番号 | W10: Ｔ Ｅ Ｌ | AF10: ＦＡＸ
C11: フリガナ
C12: 口座名義 | AG12: 取引先コード
B15: 工 事 名 | O15: 税抜請求額 | U15: 消費税額 | AB15: 税込請求額 | AH15: 摘 要
AB16: =O16+U16 -> 0
AB17: =O17+U17 -> 0
AB18: =O18+U18 -> 0
AB19: =O19+U19 -> 0
AB20: =O20+U20 -> 0
AB21: =O21+U21 -> 0
AB22: =O22+U22 -> 0
AB23: =O23+U23 -> 0
AB24: =O24+U24 -> 0
AB25: =O25+U25 -> 0
B26: 合 計 | O26: =SUM(O16:T25) -> 0 | U26: =SUM(U16:AA25) -> 0 | AB26: =SUM(AB16:AG25) -> 0
P31: 請 求 総 括 表 A | AJ31: ② | AK31: 提出用【経理】
C33: 株式会社 石 井 組 御中 | O33: 西暦 | Q33: =Q4 -> 0 | S33: 年 | T33: =T4 -> 0 | U33: 月 末日締切 | AA33: 適格請求書発行 事業者登録番号 | AF33: =AF4 -> 0 | AL33: 免税 事業者
B35: 請 求 合 計 額 （消 費 税 込） | J35: =J6 -> 0 | R35: － | W35: 住 所 | AA35: =AA6 -> 0
W36: 会 社 名 | AA36: =AA7 -> 0
B38: 振込先 | C38: =C9 -> 0 | K38: 銀行 | L38: =L9 -> 0 | R38: 支店 | W38: 代 表 者 | AA38: =AA9 -> 0 | AN38: ㊞
C39: 預金種別 | I39: =I10 -> 0 | K39: 口座番号 | N39: =N10 -> 0 | W39: Ｔ Ｅ Ｌ | Z39: =Z10 -> 0 | AF39: ＦＡＸ | AI39: =AI10 -> 0
C40: フリガナ | I40: =I11 -> 0
C41: 口座名義 | I41: =I12 -> 0 | AG41: 取引先コード | AL41: =AL12 -> 0
B44: 工 事 名 | O44: 税抜請求額 | U44: 消費税額 | AB44: 税込請求額 | AH44: 摘 要
B45: =B16 -> 0 | O45: =O16 -> 0 | U45: =U16 -> 0 | AB45: =AB16 -> 0 | AH45: =AH16 -> 0
B46: =B17 -> 0 | O46: =O17 -> 0 | U46: =U17 -> 0 | AB46: =AB17 -> 0 | AH46: =AH17 -> 0
B47: =B18 -> 0 | O47: =O18 -> 0 | U47: =U18 -> 0 | AB47: =AB18 -> 0 | AH47: =AH18 -> 0
B48: =B19 -> 0 | O48: =O19 -> 0 | U48: =U19 -> 0 | AB48: =AB19 -> 0 | AH48: =AH19 -> 0
B49: =B20 -> 0 | O49: =O20 -> 0 | U49: =U20 -> 0 | AB49: =AB20 -> 0 | AH49: =AH20 -> 0
B50: =B21 -> 0 | O50: =O21 -> 0 | U50: =U21 -> 0 | AB50: =AB21 -> 0 | AH50: =AH21 -> 0
B51: =B22 -> 0 | O51: =O22 -> 0 | U51: =U22 -> 0 | AB51: =AB22 -> 0 | AH51: =AH22 -> 0
B52: =B23 -> 0 | O52: =O23 -> 0 | U52: =U23 -> 0 | AB52: =AB23 -> 0 | AH52: =AH23 -> 0
B53: =B24 -> 0 | O53: =O24 -> 0 | U53: =U24 -> 0 | AB53: =AB24 -> 0 | AH53: =AH24 -> 0
B54: =B25 -> 0 | O54: =O25 -> 0 | U54: =U25 -> 0 | AB54: =AB25 -> 0 | AH54: =AH25 -> 0
B55: 合 計 | O55: =O26 -> 0 | U55: =U26 -> 0 | AB55: =AB26 -> 0

Sheet 【記入例】工事別請求書Ｂ
N2: 工事別請求書(外注請負用)Ｂ | AJ2: ① | AK2: 取引先控
C4: 株式会社 石 井 組 御中 | O4: 西暦 | Q4: 2023 | S4: 年 | T4: 8 | U4: 月 末日締切 | AA4: 適格請求書発行 事業者登録番号 | AF4: T1234567890123 | AL4: 免税 事業者 | AR4: FALSE
B6: 工事名 | D6: ○○工事 | W6: 住 所 | AA6: 新発田市○○町○丁目○番○号
W7: 会 社 名 | AA7: 株式会社 ○○○○
B9: 請 求 金 額 （消 費 税 込） | I9: =W26+AG26 -> 5500000 | R9: － | W9: 代 表 者 | AA9: 代表取締役 ○○ ○○ | AN9: ㊞
W10: Ｔ Ｅ Ｌ | Z10: 0000-00-0000 | AF10: 担当者 | AI10: ○○部 ○○
B12: 工事コード | F12: 123456 | M12: 注文書No. | P12: 123456 | AG12: 取引先コード | AL12: 123456
B14: 請求内訳（税抜）
B15: 工 種 | I15: 原 契 約 額 | M15: 変 更 増 減 額 | R15: 前回までの受領額 | W15: 今 回 請 求 額 | AC15: 残 高
B16: ○○工事 | I16: 10000000 | M16: 1000000 | R16: 5000000 | W16: 5000000 | AC16: =I16+M16-R16-W16 -> 1000000
AC17: =I17+M17-R17-W17 -> 0
AC18: =I18+M18-R18-W18 -> 0
AC19: =I19+M19-R19-W19 -> 0
AC20: =I20+M20-R20-W20 -> 0
B21: 計 | I21: =SUM(I16:L20) -> 10000000 | M21: =SUM(M16:Q20) -> 1000000 | R21: =SUM(R16:V20) -> 5000000 | W21: =SUM(W16:AB20) -> 5000000 | AC21: =SUM(AC16:AH20) -> 1000000
P24: 今 回 請求額 | S24: 課税対象額 | W24: 5000000 | AC24: 消費税 | AE24: 10 | AF24: % | AG24: =W24*AE24% -> 500000
S25: 免税・非登録対象額 | W25: 0 | AC25: ──── | AG25: ─
S26: 税抜計 | W26: =W24+W25 -> 5000000 | AC26: 消費税計 | AG26: =AG24 -> 500000

Sheet 【入力用】工事別請求書Ｂ
N2: 工事別請求書(外注請負用)Ｂ | AJ2: ① | AK2: 取引先控
C4: 株式会社 石 井 組 御中 | O4: 西暦 | S4: 年 | U4: 月 末日締切 | AA4: 適格請求書発行 事業者登録番号 | AL4: 免税 事業者 | AR4: FALSE
B6: 工事名 | W6: 住 所
W7: 会 社 名
B9: 請 求 金 額 （消 費 税 込） | I9: =W26+AG26 -> 0 | R9: － | W9: 代 表 者 | AN9: ㊞
W10: Ｔ Ｅ Ｌ | AF10: 担当者
B12: 工事コード | M12: 注文書No. | AG12: 取引先コード
B14: 請求内訳（税抜）
B15: 工 種 | I15: 原 契 約 額 | M15: 変 更 増 減 額 | R15: 前回までの受領額 | W15: 今 回 請 求 額 | AC15: 残 高
AC16: =I16+M16-R16-W16 -> 0
AC17: =I17+M17-R17-W17 -> 0
AC18: =I18+M18-R18-W18 -> 0
AC19: =I19+M19-R19-W19 -> 0
AC20: =I20+M20-R20-W20 -> 0
B21: 計 | I21: =SUM(I16:L20) -> 0 | M21: =SUM(M16:Q20) -> 0 | R21: =SUM(R16:V20) -> 0 | W21: =SUM(W16:AB20) -> 0 | AC21: =SUM(AC16:AH20) -> 0
P24: 今 回 請求額 | S24: 課税対象額 | AC24: 消費税 | AE24: 10 | AF24: % | AG24: =W24*AE24% -> 0
S25: 免税・非登録対象額 | AC25: ──── | AG25: ─
S26: 税抜計 | W26: =W24+W25 -> 0 | AC26: 消費税計 | AG26: =AG24 -> 0
N33: 工事別請求書(外注請負用)Ｂ | AJ33: ② | AK33: 提出用【現場】
C35: 株式会社 石 井 組 御中 | O35: 西暦 | Q35: =Q4 -> 0 | S35: 年 | T35: =T4 -> 0 | U35: 月 末日締切 | AA35: 適格請求書発行 事業者登録番号 | AF35: =AF4 -> 0 | AL35: 免税 事業者
B37: 工事名 | D37: =D6 -> 0 | W37: 住 所 | AA37: =AA6 -> 0
W38: 会 社 名 | AA38: =AA7 -> 0
B40: 請 求 金 額 （消 費 税 込） | I40: =I9 -> 0 | R40: － | W40: 代 表 者 | AA40: =AA9 -> 0 | AN40: ㊞
W41: Ｔ Ｅ Ｌ | Z41: =Z10 -> 0 | AF41: 担当者 | AI41: =AI10 -> 0
B43: 工事コード | F43: =F12 -> 0 | M43: 注文書No. | P43: =P12 -> 0 | W43: 部門コード | AG43: 取引先コード | AL43: =AL12 -> 0
B45: 請求内訳（税抜） | AI45: コード表参照 | AM45: コード表参照
B46: 工 種 | I46: 原 契 約 額 | M46: 変 更 増 減 額 | R46: 前回までの受領額 | W46: 今 回 請 求 額 | AC46: 残 高 | AI46: 科目コード | AM46: 工種コード
B47: =B16 -> 0 | I47: =I16 -> 0 | M47: =M16 -> 0 | R47: =R16 -> 0 | W47: =W16 -> 0 | AC47: =AC16 -> 0
B48: =B17 -> 0 | I48: =I17 -> 0 | M48: =M17 -> 0 | R48: =R17 -> 0 | W48: =W17 -> 0 | AC48: =AC17 -> 0
B49: =B18 -> 0 | I49: =I18 -> 0 | M49: =M18 -> 0 | R49: =R18 -> 0 | W49: =W18 -> 0 | AC49: =AC18 -> 0
B50: =B19 -> 0 | I50: =I19 -> 0 | M50: =M19 -> 0 | R50: =R19 -> 0 | W50: =W19 -> 0 | AC50: =AC19 -> 0
B51: =B20 -> 0 | I51: =I20 -> 0 | M51: =M20 -> 0 | R51: =R20 -> 0 | W51: =W20 -> 0 | AC51: =AC20 -> 0
B52: 計 | I52: =I21 -> 0 | M52: =M21 -> 0 | R52: =R21 -> 0 | W52: =W21 -> 0 | AC52: =AC21 -> 0
B55: 支 払 比 率 | J55: 現 金 ％ | P55: 今 回 請求額 | S55: 課税対象額 | W55: =W24 -> 0 | AC55: 消費税 | AE55: =AE24 -> 10 | AF55: % | AG55: =AG24 -> 0 | AL55: 石井組使用欄
J56: 手 形 ％ | S56: 免税・非登録対象額 | W56: =W25 -> 0 | AC56: ──── | AG56: =AG25 -> ─
B57: 労災互助会費負担 | J57: 有 ・ 無 | S57: 税抜計 | W57: =W26 -> 0 | AC57: 消費税計 | AG57: =AG26 -> 0
B58: 備 考
N64: 工事別請求書(外注請負用)Ｂ | AJ64: ③ | AK64: 提出用【経理】
C66: 株式会社 石 井 組 御中 | O66: 西暦 | Q66: =Q4 -> 0 | S66: 年 | T66: =T4 -> 0 | U66: 月 末日締切 | AA66: 適格請求書発行 事業者登録番号 | AF66: =AF4 -> 0 | AL66: 免税 事業者
B68: 工事名 | D68: =D6 -> 0 | W68: 住 所 | AA68: =AA6 -> 0
...

Sheet 【記入例】工事別請求書C
N2: 工事別請求書( | T2: 材料及び物品納入用 少額及び常用工事用 | Y2: ）C | AJ2: ① | AK2: 取引先控
C4: 株式会社 石 井 組 御中 | O4: 西暦 | Q4: 2023 | S4: 年 | T4: 8 | U4: 月 末日締切 | AA4: 適格請求書発行 事業者登録番号 | AF4: T1234567890123 | AL4: 免税 事業者 | AR4: FALSE
B6: 工事名 | D6: ○○○工事 | W6: 住 所 | AA6: 新発田市○○町○丁目〇番○号
W7: 会 社 名 | AA7: 株式会社 ○○○○
B9: 請 求 金 額 （消 費 税 込） | I9: =W26+AG26 -> 1838385 | R9: － | W9: 代 表 者 | AA9: 代表取締役 ○○ ○○ | AN9: ㊞
W10: Ｔ Ｅ Ｌ | Z10: 0000-00-0000 | AF10: 担当者 | AI10: ○○部 ○○
B12: 工事コード | F12: 123456 | M12: 部門コード | P12: 123456 | AG12: 取引先コード | AL12: 123456
B14: 請求内訳（税抜）
B15: 月 | D15: 日 | F15: 品 名（工 種） | M15: 税区分 | N15: 数 量 | Q15: 単 位 | S15: 単 価 | W15: 金 額 | AC15: 摘 要
B16: 4 | D16: 1 | F16: ○○○ | M16: 0.1 | N16: 300 | Q16: ㎡ | S16: 1000 | W16: =N16*S16 -> 300000 | AR16: 0.1
B17: 4 | D17: 10 | F17: 別紙明細 | M17: 0.1 | N17: 1 | Q17: 式 | W17: 1193550 | AR17: 0.08
B18: 4 | D18: 20 | F18: 別紙明細 | M18: 0.08 | N18: 1 | Q18: 式 | W18: 181000 | AR18: 非課税
W19: =N19*S19 -> 0 | AR19: 免税
W20: =N20*S20 -> 0
B21: 計 | W21: =SUM(W16:AB20) -> 1674550
P23: 今 回 請求額 | S23: 標準課税対象額 | W23: =SUMIF(M16:M20,AR16,W16:AB20) -> 1493550 | AC23: 消費税 | AE23: 10 | AF23: ％ | AG23: =W23*AE23% -> 149355
S24: 軽減税率対象額 | W24: =SUMIF(M16:M20,AR17,W16:AB20) -> 181000 | AC24: 消費税 | AE24: 8 | AF24: ％ | AG24: =W24*AE24% -> 14480
S25: 非課税・免税対象額 | W25: =SUMIF(M16:M20,AR18,W16:AB20)+SUMIF(M16:M20,AR19,W16:AB20) -> 0 | AC25: ──── | AG25: ─
S26: 税抜計 | W26: =SUM(W23:AB25) -> 1674550 | AC26: 消費税計 | AG26: =AG23+AG24 -> 163835

Sheet 【入力用】工事別請求書C
N2: 工事別請求書( | T2: 材料及び物品納入用 少額及び常用工事用 | Y2: ）C | AJ2: ① | AK2: 取引先控
C4: 株式会社 石 井 組 御中 | O4: 西暦 | S4: 年 | U4: 月 末日締切 | AA4: 適格請求書発行 事業者登録番号 | AL4: 免税 事業者 | AR4: FALSE
B6: 工事名 | W6: 住 所
W7: 会 社 名
B9: 請 求 金 額 （消 費 税 込） | I9: =W26+AG26 -> 0 | R9: － | W9: 代 表 者 | AN9: ㊞
W10: Ｔ Ｅ Ｌ | AF10: 担当者
B12: 工事コード | M12: 部門コード | AG12: 取引先コード
B14: 請求内訳（税抜）
B15: 月 | D15: 日 | F15: 品 名（工 種） | M15: 税区分 | N15: 数 量 | Q15: 単 位 | S15: 単 価 | W15: 金 額 | AC15: 摘 要
W16: =N16*S16 -> 0 | AR16: 0.1
W17: =N17*S17 -> 0 | AR17: 0.08
W18: =N18*S18 -> 0 | AR18: 非課税
W19: =N19*S19 -> 0 | AR19: 免税
W20: =N20*S20 -> 0
B21: 計 | W21: =SUM(W16:AB20) -> 0
P23: 今 回 請求額 | S23: 標準課税対象額 | W23: =SUMIF(M16:M20,AR16,W16:AB20) -> 0 | AC23: 消費税 | AE23: 10 | AF23: ％ | AG23: =W23*AE23% -> 0
S24: 軽減税率対象額 | W24: =SUMIF(M16:M20,AR17,W16:AB20) -> 0 | AC24: 消費税 | AE24: 8 | AF24: ％ | AG24: =W24*AE24% -> 0
S25: 非課税・免税対象額 | W25: =SUMIF(M16:M20,AR18,W16:AB20)+SUMIF(M16:M20,AR19,W16:AB20) -> 0 | AC25: ──── | AG25: ─
S26: 税抜計 | W26: =SUM(W23:AB25) -> 0 | AC26: 消費税計 | AG26: =AG23+AG24 -> 0
N33: 工事別請求書( | T33: 材料及び物品納入用 少額及び常用工事用 | Y33: ）C | AJ33: ② | AK33: 提出用【現場】
C35: 株式会社 石 井 組 御中 | O35: 西暦 | Q35: =Q4 -> 0 | S35: 年 | T35: =T4 -> 0 | U35: 月 末日締切 | AA35: 適格請求書発行 事業者登録番号 | AF35: =AF4 -> 0 | AL35: 免税 事業者
B37: 工事名 | D37: =D6 -> 0 | W37: 住 所 | AA37: =AA6 -> 0
W38: 会 社 名 | AA38: =AA7 -> 0
B40: 請 求 金 額 （消 費 税 込） | I40: =I9 -> 0 | R40: － | W40: 代 表 者 | AA40: =AA9 -> 0 | AN40: ㊞
W41: Ｔ Ｅ Ｌ | Z41: =Z10 -> 0 | AF41: 担当者 | AI41: =AI10 -> 0
B43: 工事コード | F43: =F12 -> 0 | M43: 部門コード | P43: =P12 -> 0 | AG43: 取引先コード | AL43: =AL12 -> 0
B45: 請求内訳（税抜） | AI45: コード表参照 | AM45: コード表参照
B46: 月 | D46: 日 | F46: 品 名（工 種） | M46: 税区分 | N46: 数 量 | Q46: 単 位 | S46: 単 価 | W46: 金 額 | AC46: 摘 要 | AI46: 科目コード | AM46: 工種コード
B47: =B16 -> 0 | D47: =D16 -> 0 | F47: =F16 -> 0 | M47: =M16 -> 0 | N47: =N16 -> 0 | Q47: =Q16 -> 0 | S47: =S16 -> 0 | W47: =W16 -> 0 | AC47: =AC16 -> 0
B48: =B17 -> 0 | D48: =D17 -> 0 | F48: =F17 -> 0 | M48: =M17 -> 0 | N48: =N17 -> 0 | Q48: =Q17 -> 0 | S48: =S17 -> 0 | W48: =W17 -> 0 | AC48: =AC17 -> 0
B49: =B18 -> 0 | D49: =D18 -> 0 | F49: =F18 -> 0 | M49: =M18 -> 0 | N49: =N18 -> 0 | Q49: =Q18 -> 0 | S49: =S18 -> 0 | W49: =W18 -> 0 | AC49: =AC18 -> 0
B50: =B19 -> 0 | D50: =D19 -> 0 | F50: =F19 -> 0 | M50: =M19 -> 0 | N50: =N19 -> 0 | Q50: =Q19 -> 0 | S50: =S19 -> 0 | W50: =W19 -> 0 | AC50: =AC19 -> 0
B51: =B20 -> 0 | D51: =D20 -> 0 | F51: =F20 -> 0 | M51: =M20 -> 0 | N51: =N20 -> 0 | Q51: =Q20 -> 0 | S51: =S20 -> 0 | W51: =W20 -> 0 | AC51: =AC20 -> 0
B52: 計 | W52: =W21 -> 0
B54: 支 払 比 率 | J54: 現 金 ％ | P54: 今 回 請求額 | S54: 標準課税対象額 | W54: =W23 -> 0 | AC54: 消費税 | AE54: =AE23 -> 10 | AF54: ％ | AG54: =AG23 -> 0 | AL54: 石井組使用欄
J55: 手 形 ％ | S55: 軽減税率対象額 | W55: =W24 -> 0 | AC55: 消費税 | AE55: =AE24 -> 8 | AF55: ％ | AG55: =AG24 -> 0
B56: 労災互助会費負担 | J56: 有 ・ 無 | S56: 非課税・免税対象額 | W56: =W25 -> 0 | AC56: ──── | AG56: =AG25 -> ─
B57: 備 考 | S57: 税抜計 | W57: =W26 -> 0 | AC57: 消費税計 | AG57: =AG26 -> 0
N64: 工事別請求書( | T64: 材料及び物品納入用 少額及び常用工事用 | Y64: ）C | AJ64: ③ | AK64: 提出用【経理】
C66: 株式会社 石 井 組 御中 | O66: 西暦 | Q66: =Q4 -> 0 | S66: 年 | T66: =T4 -> 0 | U66: 月 末日締切 | AA66: 適格請求書発行 事業者登録番号 | AF66: =AF4 -> 0 | AL66: 免税 事業者
...

Sheet 【記入例】請求内訳書C-1
N2: 請 求 内 訳 書 C - 1 | AJ2: ① | AK2: 取引先控
O4: 西暦 | Q4: 2023 | S4: 年 | T4: 8 | U4: 月 末日締切
B6: 工事名 | D6: ○○○工事 | W6: 会 社 名 | AA6: 株式会社 ○○○○
B9: （税抜）
B10: 月 | D10: 日 | F10: 品 名（工 種） | M10: 税区分 | N10: 数 量 | Q10: 単 位 | S10: 単 価 | W10: 金 額 | AC10: 摘 要
B11: 4 | D11: 10 | F11: ○○○○ | M11: 0.1 | N11: 1 | Q11: ｍ | S11: 10 | W11: =N11*S11 -> 10
F12: ●●●● | M12: 0.1 | N12: 2 | Q12: ㎡ | S12: 20 | W12: =N12*S12 -> 40
F13: □□□□ | M13: 0.1 | N13: 3 | Q13: ㎥ | S13: 300 | W13: =N13*S13 -> 900
F14: ■■■■ | M14: 0.1 | N14: 4 | Q14: 個 | S14: 400 | W14: =N14*S14 -> 1600
F15: △△△△ | M15: 0.1 | N15: 5 | Q15: 本 | S15: 5000 | W15: =N15*S15 -> 25000
F16: ▲▲▲▲ | M16: 0.1 | N16: 6 | Q16: 枚 | S16: 6000 | W16: =N16*S16 -> 36000 | AR16: 0.1
F17: ☆☆☆☆ | M17: 0.1 | N17: 7 | Q17: 日 | S17: 70000 | W17: =N17*S17 -> 490000 | AR17: 0.08
F18: ★★★★ | M18: 0.1 | N18: 8 | Q18: 台 | S18: 80000 | W18: =N18*S18 -> 640000 | AR18: 非課税
W19: =N19*S19 -> 0 | AR19: 免税
F20: 計 | W20: =SUM(W11:AB19) -> 1193550
W21: =N21*S21 -> 0
W22: =N22*S22 -> 0
B23: 4 | D23: 20 | F23: ◇◇◇◇ | M23: 0.08 | N23: 9 | Q23: 本 | S23: 9000 | W23: =N23*S23 -> 81000
F24: ◆◆◆◆ | M24: 0.08 | N24: 10 | Q24: 本 | S24: 10000 | W24: =N24*S24 -> 100000
W25: =N25*S25 -> 0
F26: 計 | W26: =SUM(W23:AB25) -> 181000
W27: =N27*S27 -> 0
W28: =N28*S28 -> 0
W29: =N29*S29 -> 0
W30: =N30*S30 -> 0
W31: =N31*S31 -> 0
W32: =N32*S32 -> 0
W33: =N33*S33 -> 0
W34: =N34*S34 -> 0
W35: =N35*S35 -> 0
W36: =N36*S36 -> 0
W37: =N37*S37 -> 0
W38: =N38*S38 -> 0
... W74: =N74*S74 -> 0

Sheet 【入力用】請求内訳書C-1＿①取引先控
N2: 請 求 内 訳 書 C - 1 | AJ2: ① | AK2: 取引先控
O4: 西暦 | S4: 年 | U4: 月 末日締切 | AR4: FALSE
B6: 工事名 | W6: 会 社 名
B9: （税抜）
B10: 月 | D10: 日 | F10: 品 名（工 種） | M10: 税区分 | N10: 数 量 | Q10: 単 位 | S10: 単 価 | W10: 金 額 | AC10: 摘 要
W11: =N11*S11 -> 0
W12: =N12*S12 -> 0
W13: =N13*S13 -> 0
W14: =N14*S14 -> 0
W15: =N15*S15 -> 0
W16: =N16*S16 -> 0 | AR16: 0.1
W17: =N17*S17 -> 0 | AR17: 0.08
W18: =N18*S18 -> 0 | AR18: 非課税
W19: =N19*S19 -> 0 | AR19: 免税
W20: =N20*S20 -> 0
W21: =N21*S21 -> 0
W22: =N22*S22 -> 0
W23: =N23*S23 -> 0
W24: =N24*S24 -> 0
W25: =N25*S25 -> 0
W26: =N26*S26 -> 0
W27: =N27*S27 -> 0
W28: =N28*S28 -> 0
W29: =N29*S29 -> 0
W30: =N30*S30 -> 0
W31: =N31*S31 -> 0
... W74: =N74*S74 -> 0

Sheet 請求内訳書C-1＿②提出用【現場】
N2: 請 求 内 訳 書 C - 1 | AJ2: ② | AK2: 提出用【現場】
O4: 西暦 | Q4: ='【入力用】請求内訳書C-1＿①取引先控'!Q4 -> 0 | S4: 年 | T4: ='【入力用】請求内訳書C-1＿①取引先控'!T4 -> 0 | U4: 月 末日締切
B6: 工事名 | D6: ='【入力用】請求内訳書C-1＿①取引先控'!D6 -> 0 | W6: 会 社 名 | AA6: ='【入力用】請求内訳書C-1＿①取引先控'!AA6 -> 0
B9: （税抜） | AI9: コード表参照 | AM9: コード表参照
B10: 月 | D10: 日 | F10: 品 名（工 種） | M10: 税区分 | N10: 数 量 | Q10: 単 位 | S10: 単 価 | W10: 金 額 | AC10: 摘 要 | AI10: 科目コード | AM10: 工種コード
B11: ='【入力用】請求内訳書C-1＿①取引先控'!B11 -> 0 | D11: ='【入力用】請求内訳書C-1＿①取引先控'!D11 -> 0 | F11: ='【入力用】請求内訳書C-1＿①取引先控'!F11 -> 0 | M11: ='【入力用】請求内訳書C-1＿①取引先控'!M11 -> 0 | N11: ='【入力用】請求内訳書C-1＿①取引先控'!N11 -> 0 | Q11: ='【入力用】請求内訳書C-1＿①取引先控'!Q11 -> 0 | S11: ='【入力用】請求内訳書C-1＿①取引先控'!S11 -> 0 | W11: ='【入力用】請求内訳書C-1＿①取引先控'!W11 -> 0 | AC11: ='【入力用】請求内訳書C-1＿①取引先控'!AC11 -> 0
B12: ='【入力用】請求内訳書C-1＿①取引先控'!B12 -> 0 | D12: ='【入力用】請求内訳書C-1＿①取引先控'!D12 -> 0 | F12: ='【入力用】請求内訳書C-1＿①取引先控'!F12 -> 0 | M12: ='【入力用】請求内訳書C-1＿①取引先控'!M12 -> 0 | N12: ='【入力用】請求内訳書C-1＿①取引先控'!N12 -> 0 | Q12: ='【入力用】請求内訳書C-1＿①取引先控'!Q12 -> 0 | S12: ='【入力用】請求内訳書C-1＿①取引先控'!S12 -> 0 | W12: ='【入力用】請求内訳書C-1＿①取引先控'!W12 -> 0 | AC12: ='【入力用】請求内訳書C-1＿①取引先控'!AC12 -> 0
B13: ='【入力用】請求内訳書C-1＿①取引先控'!B13 -> 0 | D13: ='【入力用】請求内訳書C-1＿①取引先控'!D13 -> 0 | F13: ='【入力用】請求内訳書C-1＿①取引先控'!F13 -> 0 | M13: ='【入力用】請求内訳書C-1＿①取引先控'!M13 -> 0 | N13: ='【入力用】請求内訳書C-1＿①取引先控'!N13 -> 0 | Q13: ='【入力用】請求内訳書C-1＿①取引先控'!Q13 -> 0 | S13: ='【入力用】請求内訳書C-1＿①取引先控'!S13 -> 0 | W13: ='【入力用】請求内訳書C-1＿①取引先控'!W13 -> 0 | AC13: ='【入力用】請求内訳書C-1＿①取引先控'!AC13 -> 0
B14: ='【入力用】請求内訳書C-1＿①取引先控'!B14 -> 0 | D14: ='【入力用】請求内訳書C-1＿①取引先控'!D14 -> 0 | F14: ='【入力用】請求内訳書C-1＿①取引先控'!F14 -> 0 | M14: ='【入力用】請求内訳書C-1＿①取引先控'!M14 -> 0 | N14: ='【入力用】請求内訳書C-1＿①取引先控'!N14 -> 0 | Q14: ='【入力用】請求内訳書C-1＿①取引先控'!Q14 -> 0 | S14: ='【入力用】請求内訳書C-1＿①取引先控'!S14 -> 0 | W14: ='【入力用】請求内訳書C-1＿①取引先控'!W14 -> 0 | AC14: ='【入力用】請求内訳書C-1＿①取引先控'!AC14 -> 0
B15: ='【入力用】請求内訳書C-1＿①取引先控'!B15 -> 0 | D15: ='【入力用】請求内訳書C-1＿①取引先控'!D15 -> 0 | F15: ='【入力用】請求内訳書C-1＿①取引先控'!F15 -> 0 | M15: ='【入力用】請求内訳書C-1＿①取引先控'!M15 -> 0 | N15: ='【入力用】請求内訳書C-1＿①取引先控'!N15 -> 0 | Q15: ='【入力用】請求内訳書C-1＿①取引先控'!Q15 -> 0 | S15: ='【入力用】請求内訳書C-1＿①取引先控'!S15 -> 0 | W15: ='【入力用】請求内訳書C-1＿①取引先控'!W15 -> 0 | AC15: ='【入力用】請求内訳書C-1＿①取引先控'!AC15 -> 0
B16: ='【入力用】請求内訳書C-1＿①取引先控'!B16 -> 0 | D16: ='【入力用】請求内訳書C-1＿①取引先控'!D16 -> 0 | F16: ='【入力用】請求内訳書C-1＿①取引先控'!F16 -> 0 | M16: ='【入力用】請求内訳書C-1＿①取引先控'!M16 -> 0 | N16: ='【入力用】請求内訳書C-1＿①取引先控'!N16 -> 0 | Q16: ='【入力用】請求内訳書C-1＿①取引先控'!Q16 -> 0 | S16: ='【入力用】請求内訳書C-1＿①取引先控'!S16 -> 0 | W16: ='【入力用】請求内訳書C-1＿①取引先控'!W16 -> 0 | AC16: ='【入力用】請求内訳書C-1＿①取引先控'!AC16 -> 0
B17: ='【入力用】請求内訳書C-1＿①取引先控'!B17 -> 0 | D17: ='【入力用】請求内訳書C-1＿①取引先控'!D17 -> 0 | F17: ='【入力用】請求内訳書C-1＿①取引先控'!F17 -> 0 | M17: ='【入力用】請求内訳書C-1＿①取引先控'!M17 -> 0 | N17: ='【入力用】請求内訳書C-1＿①取引先控'!N17 -> 0 | Q17: ='【入力用】請求内訳書C-1＿①取引先控'!Q17 -> 0 | S17: ='【入力用】請求内訳書C-1＿①取引先控'!S17 -> 0 | W17: ='【入力用】請求内訳書C-1＿①取引先控'!W17 -> 0 | AC17: ='【入力用】請求内訳書C-1＿①取引先控'!AC17 -> 0
B18: ='【入力用】請求内訳書C-1＿①取引先控'!B18 -> 0 | D18: ='【入力用】請求内訳書C-1＿①取引先控'!D18 -> 0 | F18: ='【入力用】請求内訳書C-1＿①取引先控'!F18 -> 0 | M18: ='【入力用】請求内訳書C-1＿①取引先控'!M18 -> 0 | N18: ='【入力用】請求内訳書C-1＿①取引先控'!N18 -> 0 | Q18: ='【入力用】請求内訳書C-1＿①取引先控'!Q18 -> 0 | S18: ='【入力用】請求内訳書C-1＿①取引先控'!S18 -> 0 | W18: ='【入力用】請求内訳書C-1＿①取引先控'!W18 -> 0 | AC18: ='【入力用】請求内訳書C-1＿①取引先控'!AC18 -> 0
B19: ='【入力用】請求内訳書C-1＿①取引先控'!B19 -> 0 | D19: ='【入力用】請求内訳書C-1＿①取引先控'!D19 -> 0 | F19: ='【入力用】請求内訳書C-1＿①取引先控'!F19 -> 0 | M19: ='【入力用】請求内訳書C-1＿①取引先控'!M19 -> 0 | N19: ='【入力用】請求内訳書C-1＿①取引先控'!N19 -> 0 | Q19: ='【入力用】請求内訳書C-1＿①取引先控'!Q19 -> 0 | S19: ='【入力用】請求内訳書C-1＿①取引先控'!S19 -> 0 | W19: ='【入力用】請求内訳書C-1＿①取引先控'!W19 -> 0 | AC19: ='【入力用】請求内訳書C-1＿①取引先控'!AC19 -> 0
B20: ='【入力用】請求内訳書C-1＿①取引先控'!B20 -> 0 | D20: ='【入力用】請求内訳書C-1＿①取引先控'!D20 -> 0 | F20: ='【入力用】請求内訳書C-1＿①取引先控'!F20 -> 0 | M20: ='【入力用】請求内訳書C-1＿①取引先控'!M20 -> 0 | N20: ='【入力用】請求内訳書C-1＿①取引先控'!N20 -> 0 | Q20: ='【入力用】請求内訳書C-1＿①取引先控'!Q20 -> 0 | S20: ='【入力用】請求内訳書C-1＿①取引先控'!S20 -> 0 | W20: ='【入力用】請求内訳書C-1＿①取引先控'!W20 -> 0 | AC20: ='【入力用】請求内訳書C-1＿①取引先控'!AC20 -> 0
B21: ='【入力用】請求内訳書C-1＿①取引先控'!B21 -> 0 | D21: ='【入力用】請求内訳書C-1＿①取引先控'!D21 -> 0 | F21: ='【入力用】請求内訳書C-1＿①取引先控'!F21 -> 0 | M21: ='【入力用】請求内訳書C-1＿①取引先控'!M21 -> 0 | N21: ='【入力用】請求内訳書C-1＿①取引先控'!N21 -> 0 | Q21: ='【入力用】請求内訳書C-1＿①取引先控'!Q21 -> 0 | S21: ='【入力用】請求内訳書C-1＿①取引先控'!S21 -> 0 | W21: ='【入力用】請求内訳書C-1＿①取引先控'!W21 -> 0 | AC21: ='【入力用】請求内訳書C-1＿①取引先控'!AC21 -> 0
B22: ='【入力用】請求内訳書C-1＿①取引先控'!B22 -> 0 | D22: ='【入力用】請求内訳書C-1＿①取引先控'!D22 -> 0 | F22: ='【入力用】請求内訳書C-1＿①取引先控'!F22 -> 0 | M22: ='【入力用】請求内訳書C-1＿①取引先控'!M22 -> 0 | N22: ='【入力用】請求内訳書C-1＿①取引先控'!N22 -> 0 | Q22: ='【入力用】請求内訳書C-1＿①取引先控'!Q22 -> 0 | S22: ='【入力用】請求内訳書C-1＿①取引先控'!S22 -> 0 | W22: ='【入力用】請求内訳書C-1＿①取引先控'!W22 -> 0 | AC22: ='【入力用】請求内訳書C-1＿①取引先控'!AC22 -> 0
... B74: ='【入力用】請求内訳書C-1＿①取引先控'!B74 -> 0 | D74: ='【入力用】請求内訳書C-1＿①取引先控'!D74 -> 0 | F74: ='【入力用】請求内訳書C-1＿①取引先控'!F74 -> 0 | M74: ='【入力用】請求内訳書C-1＿①取引先控'!M74 -> 0 | N74: ='【入力用】請求内訳書C-1＿①取引先控'!N74 -> 0 | Q74: ='【入力用】請求内訳書C-1＿①取引先控'!Q74 -> 0 | S74: ='【入力用】請求内訳書C-1＿①取引先控'!S74 -> 0 | W74: ='【入力用】請求内訳書C-1＿①取引先控'!W74 -> 0 | AC74: ='【入力用】請求内訳書C-1＿①取引先控'!AC74 -> 0

Sheet 請求内訳書C-1＿③提出用【経理】
N2: 請 求 内 訳 書 C - 1 | AJ2: ③ | AK2: 提出用【経理】
O4: 西暦 | Q4: ='【入力用】請求内訳書C-1＿①取引先控'!Q4 -> 0 | S4: 年 | T4: ='【入力用】請求内訳書C-1＿①取引先控'!T4 -> 0 | U4: 月 末日締切
B6: 工事名 | D6: ='【入力用】請求内訳書C-1＿①取引先控'!D6 -> 0 | W6: 会 社 名 | AA6: ='【入力用】請求内訳書C-1＿①取引先控'!AA6 -> 0
B9: （税抜） | AI9: コード表参照 | AM9: コード表参照
B10: 月 | D10: 日 | F10: 品 名（工 種） | M10: 税区分 | N10: 数 量 | Q10: 単 位 | S10: 単 価 | W10: 金 額 | AC10: 摘 要 | AI10: 科目コード | AM10: 工種コード
B11: ='【入力用】請求内訳書C-1＿①取引先控'!B11 -> 0 | D11: ='【入力用】請求内訳書C-1＿①取引先控'!D11 -> 0 | F11: ='【入力用】請求内訳書C-1＿①取引先控'!F11 -> 0 | M11: ='【入力用】請求内訳書C-1＿①取引先控'!M11 -> 0 | N11: ='【入力用】請求内訳書C-1＿①取引先控'!N11 -> 0 | Q11: ='【入力用】請求内訳書C-1＿①取引先控'!Q11 -> 0 | S11: ='【入力用】請求内訳書C-1＿①取引先控'!S11 -> 0 | W11: ='【入力用】請求内訳書C-1＿①取引先控'!W11 -> 0 | AC11: ='【入力用】請求内訳書C-1＿①取引先控'!AC11 -> 0
B12: ='【入力用】請求内訳書C-1＿①取引先控'!B12 -> 0 | D12: ='【入力用】請求内訳書C-1＿①取引先控'!D12 -> 0 | F12: ='【入力用】請求内訳書C-1＿①取引先控'!F12 -> 0 | M12: ='【入力用】請求内訳書C-1＿①取引先控'!M12 -> 0 | N12: ='【入力用】請求内訳書C-1＿①取引先控'!N12 -> 0 | Q12: ='【入力用】請求内訳書C-1＿①取引先控'!Q12 -> 0 | S12: ='【入力用】請求内訳書C-1＿①取引先控'!S12 -> 0 | W12: ='【入力用】請求内訳書C-1＿①取引先控'!W12 -> 0 | AC12: ='【入力用】請求内訳書C-1＿①取引先控'!AC12 -> 0
B13: ='【入力用】請求内訳書C-1＿①取引先控'!B13 -> 0 | D13: ='【入力用】請求内訳書C-1＿①取引先控'!D13 -> 0 | F13: ='【入力用】請求内訳書C-1＿①取引先控'!F13 -> 0 | M13: ='【入力用】請求内訳書C-1＿①取引先控'!M13 -> 0 | N13: ='【入力用】請求内訳書C-1＿①取引先控'!N13 -> 0 | Q13: ='【入力用】請求内訳書C-1＿①取引先控'!Q13 -> 0 | S13: ='【入力用】請求内訳書C-1＿①取引先控'!S13 -> 0 | W13: ='【入力用】請求内訳書C-1＿①取引先控'!W13 -> 0 | AC13: ='【入力用】請求内訳書C-1＿①取引先控'!AC13 -> 0
B14: ='【入力用】請求内訳書C-1＿①取引先控'!B14 -> 0 | D14: ='【入力用】請求内訳書C-1＿①取引先控'!D14 -> 0 | F14: ='【入力用】請求内訳書C-1＿①取引先控'!F14 -> 0 | M14: ='【入力用】請求内訳書C-1＿①取引先控'!M14 -> 0 | N14: ='【入力用】請求内訳書C-1＿①取引先控'!N14 -> 0 | Q14: ='【入力用】請求内訳書C-1＿①取引先控'!Q14 -> 0 | S14: ='【入力用】請求内訳書C-1＿①取引先控'!S14 -> 0 | W14: ='【入力用】請求内訳書C-1＿①取引先控'!W14 -> 0 | AC14: ='【入力用】請求内訳書C-1＿①取引先控'!AC14 -> 0
B15: ='【入力用】請求内訳書C-1＿①取引先控'!B15 -> 0 | D15: ='【入力用】請求内訳書C-1＿①取引先控'!D15 -> 0 | F15: ='【入力用】請求内訳書C-1＿①取引先控'!F15 -> 0 | M15: ='【入力用】請求内訳書C-1＿①取引先控'!M15 -> 0 | N15: ='【入力用】請求内訳書C-1＿①取引先控'!N15 -> 0 | Q15: ='【入力用】請求内訳書C-1＿①取引先控'!Q15 -> 0 | S15: ='【入力用】請求内訳書C-1＿①取引先控'!S15 -> 0 | W15: ='【入力用】請求内訳書C-1＿①取引先控'!W15 -> 0 | AC15: ='【入力用】請求内訳書C-1＿①取引先控'!AC15 -> 0
B16: ='【入力用】請求内訳書C-1＿①取引先控'!B16 -> 0 | D16: ='【入力用】請求内訳書C-1＿①取引先控'!D16 -> 0 | F16: ='【入力用】請求内訳書C-1＿①取引先控'!F16 -> 0 | M16: ='【入力用】請求内訳書C-1＿①取引先控'!M16 -> 0 | N16: ='【入力用】請求内訳書C-1＿①取引先控'!N16 -> 0 | Q16: ='【入力用】請求内訳書C-1＿①取引先控'!Q16 -> 0 | S16: ='【入力用】請求内訳書C-1＿①取引先控'!S16 -> 0 | W16: ='【入力用】請求内訳書C-1＿①取引先控'!W16 -> 0 | AC16: ='【入力用】請求内訳書C-1＿①取引先控'!AC16 -> 0
B17: ='【入力用】請求内訳書C-1＿①取引先控'!B17 -> 0 | D17: ='【入力用】請求内訳書C-1＿①取引先控'!D17 -> 0 | F17: ='【入力用】請求内訳書C-1＿①取引先控'!F17 -> 0 | M17: ='【入力用】請求内訳書C-1＿①取引先控'!M17 -> 0 | N17: ='【入力用】請求内訳書C-1＿①取引先控'!N17 -> 0 | Q17: ='【入力用】請求内訳書C-1＿①取引先控'!Q17 -> 0 | S17: ='【入力用】請求内訳書C-1＿①取引先控'!S17 -> 0 | W17: ='【入力用】請求内訳書C-1＿①取引先控'!W17 -> 0 | AC17: ='【入力用】請求内訳書C-1＿①取引先控'!AC17 -> 0
B18: ='【入力用】請求内訳書C-1＿①取引先控'!B18 -> 0 | D18: ='【入力用】請求内訳書C-1＿①取引先控'!D18 -> 0 | F18: ='【入力用】請求内訳書C-1＿①取引先控'!F18 -> 0 | M18: ='【入力用】請求内訳書C-1＿①取引先控'!M18 -> 0 | N18: ='【入力用】請求内訳書C-1＿①取引先控'!N18 -> 0 | Q18: ='【入力用】請求内訳書C-1＿①取引先控'!Q18 -> 0 | S18: ='【入力用】請求内訳書C-1＿①取引先控'!S18 -> 0 | W18: ='【入力用】請求内訳書C-1＿①取引先控'!W18 -> 0 | AC18: ='【入力用】請求内訳書C-1＿①取引先控'!AC18 -> 0
B19: ='【入力用】請求内訳書C-1＿①取引先控'!B19 -> 0 | D19: ='【入力用】請求内訳書C-1＿①取引先控'!D19 -> 0 | F19: ='【入力用】請求内訳書C-1＿①取引先控'!F19 -> 0 | M19: ='【入力用】請求内訳書C-1＿①取引先控'!M19 -> 0 | N19: ='【入力用】請求内訳書C-1＿①取引先控'!N19 -> 0 | Q19: ='【入力用】請求内訳書C-1＿①取引先控'!Q19 -> 0 | S19: ='【入力用】請求内訳書C-1＿①取引先控'!S19 -> 0 | W19: ='【入力用】請求内訳書C-1＿①取引先控'!W19 -> 0 | AC19: ='【入力用】請求内訳書C-1＿①取引先控'!AC19 -> 0
B20: ='【入力用】請求内訳書C-1＿①取引先控'!B20 -> 0 | D20: ='【入力用】請求内訳書C-1＿①取引先控'!D20 -> 0 | F20: ='【入力用】請求内訳書C-1＿①取引先控'!F20 -> 0 | M20: ='【入力用】請求内訳書C-1＿①取引先控'!M20 -> 0 | N20: ='【入力用】請求内訳書C-1＿①取引先控'!N20 -> 0 | Q20: ='【入力用】請求内訳書C-1＿①取引先控'!Q20 -> 0 | S20: ='【入力用】請求内訳書C-1＿①取引先控'!S20 -> 0 | W20: ='【入力用】請求内訳書C-1＿①取引先控'!W20 -> 0 | AC20: ='【入力用】請求内訳書C-1＿①取引先控'!AC20 -> 0
B21: ='【入力用】請求内訳書C-1＿①取引先控'!B21 -> 0 | D21: ='【入力用】請求内訳書C-1＿①取引先控'!D21 -> 0 | F21: ='【入力用】請求内訳書C-1＿①取引先控'!F21 -> 0 | M21: ='【入力用】請求内訳書C-1＿①取引先控'!M21 -> 0 | N21: ='【入力用】請求内訳書C-1＿①取引先控'!N21 -> 0 | Q21: ='【入力用】請求内訳書C-1＿①取引先控'!Q21 -> 0 | S21: ='【入力用】請求内訳書C-1＿①取引先控'!S21 -> 0 | W21: ='【入力用】請求内訳書C-1＿①取引先控'!W21 -> 0 | AC21: ='【入力用】請求内訳書C-1＿①取引先控'!AC21 -> 0
B22: ='【入力用】請求内訳書C-1＿①取引先控'!B22 -> 0 | D22: ='【入力用】請求内訳書C-1＿①取引先控'!D22 -> 0 | F22: ='【入力用】請求内訳書C-1＿①取引先控'!F22 -> 0 | M22: ='【入力用】請求内訳書C-1＿①取引先控'!M22 -> 0 | N22: ='【入力用】請求内訳書C-1＿①取引先控'!N22 -> 0 | Q22: ='【入力用】請求内訳書C-1＿①取引先控'!Q22 -> 0 | S22: ='【入力用】請求内訳書C-1＿①取引先控'!S22 -> 0 | W22: ='【入力用】請求内訳書C-1＿①取引先控'!W22 -> 0 | AC22: ='【入力用】請求内訳書C-1＿①取引先控'!AC22 -> 0
... B74: ='【入力用】請求内訳書C-1＿①取引先控'!B74 -> 0 | D74: ='【入力用】請求内訳書C-1＿①取引先控'!D74 -> 0 | F74: ='【入力用】請求内訳書C-1＿①取引先控'!F74 -> 0 | M74: ='【入力用】請求内訳書C-1＿①取引先控'!M74 -> 0 | N74: ='【入力用】請求内訳書C-1＿①取引先控'!N74 -> 0 | Q74: ='【入力用】請求内訳書C-1＿①取引先控'!Q74 -> 0 | S74: ='【入力用】請求内訳書C-1＿①取引先控'!S74 -> 0 | W74: ='【入力用】請求内訳書C-1＿①取引先控'!W74 -> 0 | AC74: ='【入力用】請求内訳書C-1＿①取引先控'!AC74 -> 0

Sheet Sheet1
